BEGIN:VCALENDAR
VERSION:2.0
PRODID:-//Saalfelden-Leogang.com//NONSGML kigkonsult.se iCalcreator 2.22.1/
 /DE
METHOD:PUBLISH
X-WR-CALNAME;LANGUAGE=de:Saalfelden-Leogang.com
X-WR-CALDESC;LANGUAGE=de:Saalfelden-Leogang.com
X-WR-TIMEZONE;LANGUAGE=de:Europe/Berlin
BEGIN:VEVENT
UID:20260423T192828CEST-2796uTWRFa@Saalfelden-Leogang.com
DTSTAMP:20260423T172828Z
DESCRIPTION;LANGUAGE=de:Das Puradies Naturresort in Leogang lädt zum Sautan
 z ein!\n\nGault Millau 'Koch des Jahres' Max Stiegl gewährt uns einen ganz
  besonderen Einblick in die burgenländische Tradition! Beim Sautanz wird e
 in Bio Mangalitza-Schwein von Kopf bis Fuß verarbeitet\, verkocht und geme
 insam verkostet.\n\n24 Gänge vom Schwein inkl. Getränke & Live Music (Matt
 ari-Wines vom Weingut Weidinger\, Weine vom Weingut Strommer\, Kaffee Herr
  Werner u.v.m.)\n\nPreis: € 159\,00 (08:00 - ca. 22:00 Uhr)\n\nAnmeldung e
 rforderlich (begrenzte Platzanzahl) unter +43 6583 8275 oder info@puradies
 .com
DTSTART:20231025T060000Z
DTEND:20231026T060000Z
LOCATION;LANGUAGE=de:Puradies
SUMMARY;LANGUAGE=de:Max Stiegl's Sautanz im Puradies
END:VEVENT
END:VCALENDAR
